Package: tilingArray Version: 1.88.0 Command: /home/biocbuild/bbs-3.22-bioc/R/bin/R CMD build --keep-empty-dirs --no-resave-data --md5 tilingArray StartedAt: 2025-11-02 20:47:33 -0500 (Sun, 02 Nov 2025) EndedAt: 2025-11-02 20:48:11 -0500 (Sun, 02 Nov 2025) EllapsedTime: 38.0 seconds RetCode: 0 Status: OK PackageFile: tilingArray_1.88.0.tar.gz PackageFileSize: 3.489 MiB