Package: tilingArray Version: 1.88.0 Command: /Library/Frameworks/R.framework/Resources/bin/R CMD check --install=check:tilingArray.install-out.txt --library=/Library/Frameworks/R.framework/Resources/library --no-vignettes --timings tilingArray_1.88.0.tar.gz StartedAt: 2025-11-01 00:46:01 -0400 (Sat, 01 Nov 2025) EndedAt: 2025-11-01 00:48:52 -0400 (Sat, 01 Nov 2025) EllapsedTime: 171.1 seconds RetCode: 0 Status: OK CheckDir: tilingArray.Rcheck Warnings: 0