Package: tilingArray Version: 1.86.0 Command: /Library/Frameworks/R.framework/Resources/bin/R CMD check --install=check:tilingArray.install-out.txt --library=/Library/Frameworks/R.framework/Resources/library --no-vignettes --timings tilingArray_1.86.0.tar.gz StartedAt: 2025-10-11 16:59:46 -0400 (Sat, 11 Oct 2025) EndedAt: 2025-10-11 17:03:02 -0400 (Sat, 11 Oct 2025) EllapsedTime: 196.6 seconds RetCode: 0 Status: OK CheckDir: tilingArray.Rcheck Warnings: 0