Package: tilingArray Version: 1.86.0 Command: /Library/Frameworks/R.framework/Resources/bin/R CMD build --keep-empty-dirs --no-resave-data tilingArray StartedAt: 2025-09-26 10:50:09 -0400 (Fri, 26 Sep 2025) EndedAt: 2025-09-26 10:51:03 -0400 (Fri, 26 Sep 2025) EllapsedTime: 54.4 seconds RetCode: 0 Status: OK PackageFile: tilingArray_1.86.0.tar.gz PackageFileSize: 3.488 MiB