Package: tidytof Version: 1.4.0 Command: /home/biocbuild/R/R/bin/R CMD build --keep-empty-dirs --no-resave-data tidytof StartedAt: 2025-11-11 05:51:59 -0000 (Tue, 11 Nov 2025) EndedAt: 2025-11-11 05:58:45 -0000 (Tue, 11 Nov 2025) EllapsedTime: 406.3 seconds RetCode: 0 Status: OK PackageFile: tidytof_1.4.0.tar.gz PackageFileSize: 1.756 MiB