Package: tidytof Version: 1.4.0 Command: /home/biocbuild/bbs-3.22-bioc/R/bin/R CMD INSTALL tidytof StartedAt: 2025-11-11 15:17:57 -0500 (Tue, 11 Nov 2025) EndedAt: 2025-11-11 15:18:24 -0500 (Tue, 11 Nov 2025) EllapsedTime: 26.1 seconds RetCode: 0 Status: OK