Package: tidytof Version: 1.2.0 Command: /Library/Frameworks/R.framework/Resources/bin/R CMD build --keep-empty-dirs --no-resave-data tidytof StartedAt: 2025-09-26 10:49:17 -0400 (Fri, 26 Sep 2025) EndedAt: 2025-09-26 10:54:57 -0400 (Fri, 26 Sep 2025) EllapsedTime: 339.7 seconds RetCode: 0 Status: OK PackageFile: tidytof_1.2.0.tar.gz PackageFileSize: 2.682 MiB