Package: tidysbml Version: 1.4.0 Command: /Library/Frameworks/R.framework/Resources/bin/R CMD INSTALL tidysbml StartedAt: 2025-11-03 15:11:38 -0500 (Mon, 03 Nov 2025) EndedAt: 2025-11-03 15:12:09 -0500 (Mon, 03 Nov 2025) EllapsedTime: 30.9 seconds RetCode: 0 Status: OK