Package: tidysbml Version: 1.2.0 Command: /home/biocbuild/R/R/bin/R CMD INSTALL tidysbml StartedAt: 2025-10-13 20:15:26 -0000 (Mon, 13 Oct 2025) EndedAt: 2025-10-13 20:15:52 -0000 (Mon, 13 Oct 2025) EllapsedTime: 26.7 seconds RetCode: 0 Status: OK