Package: tidysbml Version: 1.2.0 Command: /home/biocbuild/R/R/bin/R CMD build --keep-empty-dirs --no-resave-data tidysbml StartedAt: 2025-10-14 05:23:06 -0000 (Tue, 14 Oct 2025) EndedAt: 2025-10-14 05:23:25 -0000 (Tue, 14 Oct 2025) EllapsedTime: 19.0 seconds RetCode: 0 Status: OK PackageFile: tidysbml_1.2.0.tar.gz PackageFileSize: 336.4 KiB