Package: tidysbml Version: 1.2.0 Command: /Library/Frameworks/R.framework/Resources/bin/R CMD INSTALL tidysbml StartedAt: 2025-04-21 15:02:40 -0400 (Mon, 21 Apr 2025) EndedAt: 2025-04-21 15:02:49 -0400 (Mon, 21 Apr 2025) EllapsedTime: 8.5 seconds RetCode: 0 Status: OK