Package: tidyomics Version: 1.6.0 Command: /home/biocbuild/R/R/bin/R CMD INSTALL tidyomics StartedAt: 2025-11-10 21:42:19 -0000 (Mon, 10 Nov 2025) EndedAt: 2025-11-10 21:43:04 -0000 (Mon, 10 Nov 2025) EllapsedTime: 45.2 seconds RetCode: 0 Status: OK