############################################################################## ############################################################################## ### ### Running command: ### ### /home/biocbuild/R/R/bin/R CMD INSTALL tidyomics ### ############################################################################## ############################################################################## * installing to library ‘/home/biocbuild/R/R-4.5.0/site-library’ * installing *source* package ‘tidyomics’ ... ** this is package ‘tidyomics’ version ‘1.6.0’ ** using staged installation ** R ** inst ** byte-compile and prepare package for lazy loading ** help *** installing help indices *** copying figures ** building package indices ** installing vignettes ** testing if installed package can be loaded from temporary location ℹ tidySummarizedExperiment says: The tidy printing is now handled externally. If you want to visualize the data in a tidy way, do `library(tidyprint)`. See `https://github.com/tidyomics/tidyprint` for more information. ** testing if installed package can be loaded from final location ℹ tidySummarizedExperiment says: The tidy printing is now handled externally. If you want to visualize the data in a tidy way, do `library(tidyprint)`. See `https://github.com/tidyomics/tidyprint` for more information. ** testing if installed package keeps a record of temporary installation path * DONE (tidyomics)