Package: tidyomics Version: 1.6.0 Command: /home/biocbuild/R/R/bin/R CMD build --keep-empty-dirs --no-resave-data tidyomics StartedAt: 2025-11-11 05:51:15 -0000 (Tue, 11 Nov 2025) EndedAt: 2025-11-11 05:52:00 -0000 (Tue, 11 Nov 2025) EllapsedTime: 45.0 seconds RetCode: 0 Status: OK PackageFile: tidyomics_1.6.0.tar.gz PackageFileSize: 56.39 KiB