Package: tidybulk Version: 2.0.0 Command: /home/biocbuild/R/R/bin/R CMD INSTALL tidybulk StartedAt: 2025-11-10 21:31:51 -0000 (Mon, 10 Nov 2025) EndedAt: 2025-11-10 21:32:38 -0000 (Mon, 10 Nov 2025) EllapsedTime: 46.2 seconds RetCode: 0 Status: OK