Package: tidybulk Version: 2.0.0 Command: /home/biocbuild/R/R/bin/R CMD build --keep-empty-dirs --no-resave-data tidybulk StartedAt: 2025-11-11 05:50:29 -0000 (Tue, 11 Nov 2025) EndedAt: 2025-11-11 06:17:11 -0000 (Tue, 11 Nov 2025) EllapsedTime: 1602.2 seconds RetCode: 0 Status: OK PackageFile: tidybulk_2.0.0.tar.gz PackageFileSize: 3.101 MiB