Package: tidybulk Version: 2.0.0 Command: /home/biocbuild/bbs-3.22-bioc/R/bin/R CMD INSTALL tidybulk StartedAt: 2025-11-11 15:28:48 -0500 (Tue, 11 Nov 2025) EndedAt: 2025-11-11 15:29:20 -0500 (Tue, 11 Nov 2025) EllapsedTime: 32.5 seconds RetCode: 0 Status: OK