Package: tidybulk Version: 2.0.0 Command: /home/biocbuild/bbs-3.22-bioc/R/bin/R CMD check --install=check:tidybulk.install-out.txt --library=/home/biocbuild/bbs-3.22-bioc/R/site-library --timings tidybulk_2.0.0.tar.gz StartedAt: 2025-11-12 04:56:59 -0500 (Wed, 12 Nov 2025) EndedAt: 2025-11-12 05:30:22 -0500 (Wed, 12 Nov 2025) EllapsedTime: 2003.0 seconds RetCode: 0 Status: OK CheckDir: tidybulk.Rcheck Warnings: 0