Package: tidybulk Version: 2.0.0 Command: /home/biocbuild/bbs-3.22-bioc/R/bin/R CMD build --keep-empty-dirs --no-resave-data --md5 tidybulk StartedAt: 2025-11-11 20:39:25 -0500 (Tue, 11 Nov 2025) EndedAt: 2025-11-11 20:57:02 -0500 (Tue, 11 Nov 2025) EllapsedTime: 1057.0 seconds RetCode: 0 Status: OK PackageFile: tidybulk_2.0.0.tar.gz PackageFileSize: 4.747 MiB