############################################################################## ############################################################################## ### ### Running command: ### ### /home/biocbuild/R/R/bin/R CMD INSTALL tidySummarizedExperiment ### ############################################################################## ############################################################################## * installing to library ‘/home/biocbuild/R/R-4.5.0/site-library’ * installing *source* package ‘tidySummarizedExperiment’ ... ** this is package ‘tidySummarizedExperiment’ version ‘1.20.1’ ** using staged installation ** R ** data *** moving datasets to lazyload DB ** inst ** byte-compile and prepare package for lazy loading Note: wrong number of arguments to '>' ** help *** installing help indices *** copying figures ** building package indices ** installing vignettes ** testing if installed package can be loaded from temporary location ℹ tidySummarizedExperiment says: The tidy printing is now handled externally. If you want to visualize the data in a tidy way, do `library(tidyprint)`. See `https://github.com/tidyomics/tidyprint` for more information. ** testing if installed package can be loaded from final location ℹ tidySummarizedExperiment says: The tidy printing is now handled externally. If you want to visualize the data in a tidy way, do `library(tidyprint)`. See `https://github.com/tidyomics/tidyprint` for more information. ** testing if installed package keeps a record of temporary installation path * DONE (tidySummarizedExperiment)