Package: tidySummarizedExperiment Version: 1.20.1 Command: /home/biocbuild/R/R/bin/R CMD check --install=check:tidySummarizedExperiment.install-out.txt --library=/home/biocbuild/R/R/site-library --no-vignettes --timings tidySummarizedExperiment_1.20.1.tar.gz StartedAt: 2025-11-11 15:50:33 -0000 (Tue, 11 Nov 2025) EndedAt: 2025-11-11 15:56:50 -0000 (Tue, 11 Nov 2025) EllapsedTime: 376.5 seconds RetCode: 0 Status: OK CheckDir: tidySummarizedExperiment.Rcheck Warnings: 0