Package: tidySummarizedExperiment Version: 1.20.1 Command: /home/biocbuild/R/R/bin/R CMD build --keep-empty-dirs --no-resave-data tidySummarizedExperiment StartedAt: 2025-11-11 05:51:52 -0000 (Tue, 11 Nov 2025) EndedAt: 2025-11-11 05:52:46 -0000 (Tue, 11 Nov 2025) EllapsedTime: 54.0 seconds RetCode: 0 Status: OK PackageFile: tidySummarizedExperiment_1.20.1.tar.gz PackageFileSize: 369.3 KiB