Package: tidySummarizedExperiment Version: 1.20.1 Command: /home/biocbuild/bbs-3.22-bioc/R/bin/R CMD INSTALL tidySummarizedExperiment StartedAt: 2025-11-11 15:37:18 -0500 (Tue, 11 Nov 2025) EndedAt: 2025-11-11 15:37:44 -0500 (Tue, 11 Nov 2025) EllapsedTime: 26.4 seconds RetCode: 0 Status: OK