Package: tidySummarizedExperiment Version: 1.20.1 Command: /home/biocbuild/bbs-3.22-bioc/R/bin/R CMD check --install=check:tidySummarizedExperiment.install-out.txt --library=/home/biocbuild/bbs-3.22-bioc/R/site-library --timings tidySummarizedExperiment_1.20.1.tar.gz StartedAt: 2025-11-12 04:59:19 -0500 (Wed, 12 Nov 2025) EndedAt: 2025-11-12 05:04:41 -0500 (Wed, 12 Nov 2025) EllapsedTime: 321.3 seconds RetCode: 0 Status: OK CheckDir: tidySummarizedExperiment.Rcheck Warnings: 0