Package: tidySummarizedExperiment Version: 1.18.1 Command: /home/biocbuild/bbs-3.21-bioc/R/bin/R CMD check --install=check:tidySummarizedExperiment.install-out.txt --library=/home/biocbuild/bbs-3.21-bioc/R/site-library --timings tidySummarizedExperiment_1.18.1.tar.gz StartedAt: 2025-10-16 04:24:13 -0400 (Thu, 16 Oct 2025) EndedAt: 2025-10-16 04:28:59 -0400 (Thu, 16 Oct 2025) EllapsedTime: 286.4 seconds RetCode: 0 Status: OK CheckDir: tidySummarizedExperiment.Rcheck Warnings: 0