Package: tidySummarizedExperiment Version: 1.18.0 Command: /Library/Frameworks/R.framework/Resources/bin/R CMD check --install=check:tidySummarizedExperiment.install-out.txt --library=/Library/Frameworks/R.framework/Resources/library --no-vignettes --timings tidySummarizedExperiment_1.18.0.tar.gz StartedAt: 2025-04-21 22:06:10 -0400 (Mon, 21 Apr 2025) EndedAt: 2025-04-21 22:07:52 -0400 (Mon, 21 Apr 2025) EllapsedTime: 102.3 seconds RetCode: 0 Status: OK CheckDir: tidySummarizedExperiment.Rcheck Warnings: 0