Package: tidySummarizedExperiment Version: 1.18.1 Command: /Library/Frameworks/R.framework/Resources/bin/R CMD check --install=check:tidySummarizedExperiment.install-out.txt --library=/Library/Frameworks/R.framework/Resources/library --no-vignettes --timings tidySummarizedExperiment_1.18.1.tar.gz StartedAt: 2025-10-15 15:22:26 -0400 (Wed, 15 Oct 2025) EndedAt: 2025-10-15 15:27:48 -0400 (Wed, 15 Oct 2025) EllapsedTime: 322.3 seconds RetCode: 0 Status: OK CheckDir: tidySummarizedExperiment.Rcheck Warnings: 0