Package: tidySpatialExperiment Version: 1.6.1 Command: /home/biocbuild/R/R/bin/R CMD check --install=check:tidySpatialExperiment.install-out.txt --library=/home/biocbuild/R/R/site-library --no-vignettes --timings tidySpatialExperiment_1.6.1.tar.gz StartedAt: 2025-11-11 15:50:12 -0000 (Tue, 11 Nov 2025) EndedAt: 2025-11-11 15:55:43 -0000 (Tue, 11 Nov 2025) EllapsedTime: 330.4 seconds RetCode: 0 Status: OK CheckDir: tidySpatialExperiment.Rcheck Warnings: 0