Package: tidySpatialExperiment Version: 1.6.1 Command: /home/biocbuild/bbs-3.22-bioc/R/bin/R CMD INSTALL tidySpatialExperiment StartedAt: 2025-11-11 15:26:51 -0500 (Tue, 11 Nov 2025) EndedAt: 2025-11-11 15:27:21 -0500 (Tue, 11 Nov 2025) EllapsedTime: 29.5 seconds RetCode: 0 Status: OK