Package: tidySpatialExperiment Version: 1.4.1 Command: /home/biocbuild/bbs-3.21-bioc/R/bin/R CMD check --install=check:tidySpatialExperiment.install-out.txt --library=/home/biocbuild/bbs-3.21-bioc/R/site-library --timings tidySpatialExperiment_1.4.1.tar.gz StartedAt: 2025-10-02 04:19:05 -0400 (Thu, 02 Oct 2025) EndedAt: 2025-10-02 04:23:45 -0400 (Thu, 02 Oct 2025) EllapsedTime: 280.3 seconds RetCode: 0 Status: OK CheckDir: tidySpatialExperiment.Rcheck Warnings: 0