Package: tidySpatialExperiment Version: 1.4.1 Command: /Library/Frameworks/R.framework/Resources/bin/R CMD check --install=check:tidySpatialExperiment.install-out.txt --library=/Library/Frameworks/R.framework/Resources/library --no-vignettes --timings tidySpatialExperiment_1.4.1.tar.gz StartedAt: 2025-09-27 14:24:19 -0400 (Sat, 27 Sep 2025) EndedAt: 2025-09-27 14:29:24 -0400 (Sat, 27 Sep 2025) EllapsedTime: 305.1 seconds RetCode: 0 Status: OK CheckDir: tidySpatialExperiment.Rcheck Warnings: 0