Package: tidySingleCellExperiment Version: 1.20.1 Command: /home/biocbuild/R/R/bin/R CMD INSTALL tidySingleCellExperiment StartedAt: 2025-11-10 21:27:09 -0000 (Mon, 10 Nov 2025) EndedAt: 2025-11-10 21:27:48 -0000 (Mon, 10 Nov 2025) EllapsedTime: 39.1 seconds RetCode: 0 Status: OK