Package: tidySingleCellExperiment Version: 1.20.1 Command: /home/biocbuild/R/R/bin/R CMD build --keep-empty-dirs --no-resave-data tidySingleCellExperiment StartedAt: 2025-11-11 05:51:25 -0000 (Tue, 11 Nov 2025) EndedAt: 2025-11-11 05:53:25 -0000 (Tue, 11 Nov 2025) EllapsedTime: 120.1 seconds RetCode: 0 Status: OK PackageFile: tidySingleCellExperiment_1.20.1.tar.gz PackageFileSize: 962.2 KiB