Package: tidySingleCellExperiment Version: 1.20.1 Command: /home/biocbuild/bbs-3.22-bioc/R/bin/R CMD INSTALL tidySingleCellExperiment StartedAt: 2025-11-11 15:23:53 -0500 (Tue, 11 Nov 2025) EndedAt: 2025-11-11 15:24:20 -0500 (Tue, 11 Nov 2025) EllapsedTime: 27.3 seconds RetCode: 0 Status: OK