Package: tidySingleCellExperiment Version: 1.20.1 Command: /home/biocbuild/bbs-3.22-bioc/R/bin/R CMD build --keep-empty-dirs --no-resave-data --md5 tidySingleCellExperiment StartedAt: 2025-11-11 20:40:18 -0500 (Tue, 11 Nov 2025) EndedAt: 2025-11-11 20:41:42 -0500 (Tue, 11 Nov 2025) EllapsedTime: 84.1 seconds RetCode: 0 Status: OK PackageFile: tidySingleCellExperiment_1.20.1.tar.gz PackageFileSize: 1.139 MiB