Package: tidySingleCellExperiment Version: 1.18.1 Command: /Library/Frameworks/R.framework/Resources/bin/R CMD check --install=check:tidySingleCellExperiment.install-out.txt --library=/Library/Frameworks/R.framework/Resources/library --no-vignettes --timings tidySingleCellExperiment_1.18.1.tar.gz StartedAt: 2025-10-15 15:21:22 -0400 (Wed, 15 Oct 2025) EndedAt: 2025-10-15 15:25:58 -0400 (Wed, 15 Oct 2025) EllapsedTime: 276.3 seconds RetCode: 0 Status: OK CheckDir: tidySingleCellExperiment.Rcheck Warnings: 0