Package: tidyFlowCore Version: 1.4.0 Command: /home/biocbuild/R/R/bin/R CMD build --keep-empty-dirs --no-resave-data tidyFlowCore StartedAt: 2025-11-11 05:50:40 -0000 (Tue, 11 Nov 2025) EndedAt: 2025-11-11 05:51:52 -0000 (Tue, 11 Nov 2025) EllapsedTime: 72.0 seconds RetCode: 0 Status: OK PackageFile: tidyFlowCore_1.4.0.tar.gz PackageFileSize: 690.1 KiB