Package: tidyFlowCore Version: 1.4.0 Command: /home/biocbuild/bbs-3.22-bioc/R/bin/R CMD INSTALL tidyFlowCore StartedAt: 2025-11-11 15:18:04 -0500 (Tue, 11 Nov 2025) EndedAt: 2025-11-11 15:18:15 -0500 (Tue, 11 Nov 2025) EllapsedTime: 10.9 seconds RetCode: 0 Status: OK