Package: tidyCoverage Version: 1.6.0 Command: /home/biocbuild/R/R/bin/R CMD build --keep-empty-dirs --no-resave-data tidyCoverage StartedAt: 2025-11-14 05:58:19 -0000 (Fri, 14 Nov 2025) EndedAt: 2025-11-14 06:02:45 -0000 (Fri, 14 Nov 2025) EllapsedTime: 266.2 seconds RetCode: 0 Status: OK PackageFile: tidyCoverage_1.6.0.tar.gz PackageFileSize: 3.795 MiB