Package: tidyCoverage Version: 1.6.0 Command: /home/biocbuild/bbs-3.22-bioc/R/bin/R CMD INSTALL tidyCoverage StartedAt: 2025-11-13 15:27:46 -0500 (Thu, 13 Nov 2025) EndedAt: 2025-11-13 15:28:24 -0500 (Thu, 13 Nov 2025) EllapsedTime: 37.6 seconds RetCode: 0 Status: OK