Package: tidyCoverage Version: 1.6.0 Command: /home/biocbuild/bbs-3.22-bioc/R/bin/R CMD check --install=check:tidyCoverage.install-out.txt --library=/home/biocbuild/bbs-3.22-bioc/R/site-library --timings tidyCoverage_1.6.0.tar.gz StartedAt: 2025-11-12 04:57:47 -0500 (Wed, 12 Nov 2025) EndedAt: 2025-11-12 05:05:43 -0500 (Wed, 12 Nov 2025) EllapsedTime: 475.4 seconds RetCode: 0 Status: OK CheckDir: tidyCoverage.Rcheck Warnings: 0