Package: tidyCoverage Version: 1.6.0 Command: /home/biocbuild/bbs-3.22-bioc/R/bin/R CMD build --keep-empty-dirs --no-resave-data --md5 tidyCoverage StartedAt: 2025-11-11 20:39:41 -0500 (Tue, 11 Nov 2025) EndedAt: 2025-11-11 20:42:41 -0500 (Tue, 11 Nov 2025) EllapsedTime: 180.2 seconds RetCode: 0 Status: OK PackageFile: tidyCoverage_1.6.0.tar.gz PackageFileSize: 3.736 MiB