Package: terraTCGAdata Version: 1.14.0 Command: rm -rf terraTCGAdata.buildbin-libdir && mkdir terraTCGAdata.buildbin-libdir && /Users/biocbuild/BBS/utils/build-universal.sh terraTCGAdata_1.14.0.tar.gz /Library/Frameworks/R.framework/Resources/bin/R terraTCGAdata.buildbin-libdir StartedAt: 2025-11-04 02:08:22 -0500 (Tue, 04 Nov 2025) EndedAt: 2025-11-04 02:09:00 -0500 (Tue, 04 Nov 2025) EllapsedTime: 38.1 seconds RetCode: 0 Status: OK PackageFile: terraTCGAdata_1.14.0.tgz PackageFileSize: 272.7 KiB