Package: terraTCGAdata Version: 1.12.0 Command: /home/biocbuild/R/R/bin/R CMD INSTALL terraTCGAdata StartedAt: 2025-10-13 20:58:48 -0000 (Mon, 13 Oct 2025) EndedAt: 2025-10-13 20:59:24 -0000 (Mon, 13 Oct 2025) EllapsedTime: 36.2 seconds RetCode: 0 Status: OK