Package: terraTCGAdata Version: 1.12.0 Command: /home/biocbuild/R/R/bin/R CMD build --keep-empty-dirs --no-resave-data terraTCGAdata StartedAt: 2025-10-14 05:20:45 -0000 (Tue, 14 Oct 2025) EndedAt: 2025-10-14 05:21:34 -0000 (Tue, 14 Oct 2025) EllapsedTime: 49.0 seconds RetCode: 0 Status: OK PackageFile: terraTCGAdata_1.12.0.tar.gz PackageFileSize: 260.4 KiB