Package: ternarynet Version: 1.52.0 Command: /home/biocbuild/bbs-3.21-bioc/R/bin/R CMD INSTALL ternarynet StartedAt: 2025-10-15 15:05:00 -0400 (Wed, 15 Oct 2025) EndedAt: 2025-10-15 15:05:09 -0400 (Wed, 15 Oct 2025) EllapsedTime: 8.2 seconds RetCode: 0 Status: OK