Package: ternarynet Version: 1.52.0 Command: /home/biocbuild/bbs-3.21-bioc/R/bin/R CMD build --keep-empty-dirs --no-resave-data ternarynet StartedAt: 2025-10-15 20:17:07 -0400 (Wed, 15 Oct 2025) EndedAt: 2025-10-15 20:17:18 -0400 (Wed, 15 Oct 2025) EllapsedTime: 11.0 seconds RetCode: 0 Status: OK PackageFile: ternarynet_1.52.0.tar.gz PackageFileSize: 269.5 KiB