Package: ternarynet Version: 1.52.0 Command: /Library/Frameworks/R.framework/Resources/bin/R CMD INSTALL ternarynet StartedAt: 2025-10-13 15:16:39 -0400 (Mon, 13 Oct 2025) EndedAt: 2025-10-13 15:16:48 -0400 (Mon, 13 Oct 2025) EllapsedTime: 8.8 seconds RetCode: 0 Status: OK