Package: ternarynet Version: 1.52.0 Command: rm -rf ternarynet.buildbin-libdir && mkdir ternarynet.buildbin-libdir && /Users/biocbuild/BBS/utils/build-universal.sh ternarynet_1.52.0.tar.gz /Library/Frameworks/R.framework/Resources/bin/R ternarynet.buildbin-libdir StartedAt: 2025-10-15 20:49:31 -0400 (Wed, 15 Oct 2025) EndedAt: 2025-10-15 20:49:45 -0400 (Wed, 15 Oct 2025) EllapsedTime: 13.6 seconds RetCode: 0 Status: OK PackageFile: ternarynet_1.52.0.tgz PackageFileSize: 564.3 KiB