Package: terapadog Version: 1.2.0 Command: /home/biocbuild/bbs-3.22-bioc/R/bin/R CMD INSTALL terapadog StartedAt: 2025-11-06 15:26:48 -0500 (Thu, 06 Nov 2025) EndedAt: 2025-11-06 15:27:17 -0500 (Thu, 06 Nov 2025) EllapsedTime: 29.5 seconds RetCode: 0 Status: OK